BEGIN:VCALENDAR
VERSION:2.0
METHOD:PUBLISH
BEGIN:VEVENT
DTSTART:20190303T111500
DTEND:20190303T114500
LOCATION:48 Martin Road Centennial Park, NSW 2021
TRANSP: OPAQUE
SEQUENCE:0
UID:
DTSTAMP:20190301T060814Z
SUMMARY:Inspection Times - Federation home offers timeless elegance and luxury
DESCRIPTION:Commanding a position overlooking Centennial Park, 'Warwick' welcomes you into a magnificent Federation atmosphere of timeless grandeur. Affording sheer privacy, the north to rear parcel is encased by lush gardens, drawing you inside to a generous layout that effortlessly flows to alfresco spaces.

 	Formal and informal zones offer superb family flexibility
 	Sprawling lawn with all-weather terrace and in-ground pool
 	Expansive stone kitchen reveals island and sleek appliances
 	Five versatile bedrooms offer one as optional study/ office
 	Double garage, ducted reverse cycle a/c, storage and wine cellar

PRIORITY:1
CLASS:PUBLIC
BEGIN:VALARM
TRIGGER:-PT10080M
ACTION:DISPLAY
DESCRIPTION:Reminder
END:VALARM
END:VEVENT
END:VCALENDAR
